BEGIN:VCALENDAR
VERSION:2.0
PRODID:-//Tyrone GAA - ECPv6.15.20//NONSGML v1.0//EN
CALSCALE:GREGORIAN
METHOD:PUBLISH
X-ORIGINAL-URL:https://tyronegaa.ie
X-WR-CALDESC:Events for Tyrone GAA
REFRESH-INTERVAL;VALUE=DURATION:PT1H
X-Robots-Tag:noindex
X-PUBLISHED-TTL:PT1H
BEGIN:VTIMEZONE
TZID:Europe/London
BEGIN:DAYLIGHT
TZOFFSETFROM:+0000
TZOFFSETTO:+0100
TZNAME:BST
DTSTART:20240331T010000
END:DAYLIGHT
BEGIN:STANDARD
TZOFFSETFROM:+0100
TZOFFSETTO:+0000
TZNAME:GMT
DTSTART:20241027T010000
END:STANDARD
BEGIN:DAYLIGHT
TZOFFSETFROM:+0000
TZOFFSETTO:+0100
TZNAME:BST
DTSTART:20250330T010000
END:DAYLIGHT
BEGIN:STANDARD
TZOFFSETFROM:+0100
TZOFFSETTO:+0000
TZNAME:GMT
DTSTART:20251026T010000
END:STANDARD
BEGIN:DAYLIGHT
TZOFFSETFROM:+0000
TZOFFSETTO:+0100
TZNAME:BST
DTSTART:20260329T010000
END:DAYLIGHT
BEGIN:STANDARD
TZOFFSETFROM:+0100
TZOFFSETTO:+0000
TZNAME:GMT
DTSTART:20261025T010000
END:STANDARD
END:VTIMEZONE
BEGIN:VEVENT
DTSTART;TZID=Europe/London:20251102T140000
DTEND;TZID=Europe/London:20251102T153000
DTSTAMP:20260421T215558
CREATED:20251029T091521Z
LAST-MODIFIED:20251031T002632Z
UID:10000420-1762092000-1762097400@tyronegaa.ie
SUMMARY:Trí Leac C. Naoimh Mhic Artáin v Dungannon Thomas Clarkes
DESCRIPTION:Entry for U16’s accompanied by an adult is free  and do not require a ticket \n#RefuseToLose
URL:https://tyronegaa.ie/event/trillick-v-dungannon-2/
LOCATION:Carrickmore
CATEGORIES:Match Ticket,Streaming
ATTACH;FMTTYPE=image/jpeg:https://tyronegaa.ie/wp-content/uploads/2023/08/tyrone-club-champ.jpg
ORGANIZER;CN="Tyrone GAA":MAILTO:pro.tyrone@gaa.ie
END:VEVENT
BEGIN:VEVENT
DTSTART;TZID=Europe/London:20251026T160000
DTEND;TZID=Europe/London:20251026T173000
DTSTAMP:20260421T215558
CREATED:20251021T114627Z
LAST-MODIFIED:20251022T113858Z
UID:10000419-1761494400-1761499800@tyronegaa.ie
SUMMARY:Trí Leac C. Naoimh Mhic Artáin v Loughmacrory St. Teresa's
DESCRIPTION:This is a double header with U16 Grade 1 Championship Final between Ardboe O’Donovan Rossa and An Charraig Mhor Naomh Colmcille \nChildren U16 require a ticket for the Seated Stand and must be accompanied by an adult \nEntry for U16’s accompanied by an adult is free to the Terrace and do not require a ticket \n#RefuseToLose
URL:https://tyronegaa.ie/event/trillick-v-loughmacrory/
LOCATION:Omagh
CATEGORIES:Match Ticket,Streaming
ATTACH;FMTTYPE=image/jpeg:https://tyronegaa.ie/wp-content/uploads/2023/08/tyrone-club-champ.jpg
ORGANIZER;CN="Tyrone GAA":MAILTO:pro.tyrone@gaa.ie
END:VEVENT
BEGIN:VEVENT
DTSTART;TZID=Europe/London:20251026T133000
DTEND;TZID=Europe/London:20251026T150000
DTSTAMP:20260421T215558
CREATED:20251021T110433Z
LAST-MODIFIED:20251022T113943Z
UID:10000418-1761485400-1761490800@tyronegaa.ie
SUMMARY:Ardboe O'Donovan Rossa and An Charraig Mhor Naomh Colmcille
DESCRIPTION:This is a double header with Championship Final between  Trí Leac C. Naoimh Mhic Artáin v Loughmacrory St. Teresa’s \nChildren U16 require a ticket for the Seated Stand and must be accompanied by an adult \nEntry for U16’s accompanied by an adult is free to the Terrace and do not require a ticket \n#RefuseToLose
URL:https://tyronegaa.ie/event/ardboe-v-carrickmore/
LOCATION:Omagh
CATEGORIES:Match Ticket,Streaming
ATTACH;FMTTYPE=image/jpeg:https://tyronegaa.ie/wp-content/uploads/2023/08/tyrone-club-champ.jpg
ORGANIZER;CN="Tyrone GAA":MAILTO:pro.tyrone@gaa.ie
END:VEVENT
BEGIN:VEVENT
DTSTART;TZID=Europe/London:20251019T150000
DTEND;TZID=Europe/London:20251019T164500
DTSTAMP:20260421T215558
CREATED:20251014T081354Z
LAST-MODIFIED:20251014T220521Z
UID:10000417-1760886000-1760892300@tyronegaa.ie
SUMMARY:Clonoe O`Rahilly's v An Eaglais\, Naomh Pádraig
DESCRIPTION:Entry for U16’s accompanied by an adult is free and do not require a ticket. \n#RefuseToLose
URL:https://tyronegaa.ie/event/clonoe-v-eglish/
LOCATION:Dungannon\, 121 B4\, Pomeroy\, Dungannon\, BT70 2TG\, United Kingdom
CATEGORIES:Match Ticket,Streaming
ATTACH;FMTTYPE=image/jpeg:https://tyronegaa.ie/wp-content/uploads/2023/08/tyrone-club-champ.jpg
ORGANIZER;CN="Tyrone GAA":MAILTO:pro.tyrone@gaa.ie
END:VEVENT
BEGIN:VEVENT
DTSTART;TZID=Europe/London:20251018T173000
DTEND;TZID=Europe/London:20251018T184500
DTSTAMP:20260421T215558
CREATED:20251014T080934Z
LAST-MODIFIED:20251014T220229Z
UID:10000416-1760808600-1760813100@tyronegaa.ie
SUMMARY:Clogher Eire Óg v Drumragh Sarsfields
DESCRIPTION:Entry for U16’s accompanied by an adult is free and do not require a ticket. \n#RefuseToLose
URL:https://tyronegaa.ie/event/clogher-v-drumragh/
LOCATION:Omagh
CATEGORIES:Match Ticket,Streaming
ATTACH;FMTTYPE=image/jpeg:https://tyronegaa.ie/wp-content/uploads/2023/08/tyrone-club-champ.jpg
ORGANIZER;CN="Tyrone GAA":MAILTO:pro.tyrone@gaa.ie
END:VEVENT
BEGIN:VEVENT
DTSTART;TZID=Europe/London:20251017T193000
DTEND;TZID=Europe/London:20251017T204500
DTSTAMP:20260421T215558
CREATED:20251014T080604Z
LAST-MODIFIED:20251014T220050Z
UID:10000415-1760729400-1760733900@tyronegaa.ie
SUMMARY:Loughmacrory St. Teresa's v An Charraig Mhor Naomh Colmcille
DESCRIPTION:Entry for U16’s accompanied by an adult is free and do not require a ticket. \n#RefuseToLose
URL:https://tyronegaa.ie/event/loughmacroryvcarrickmore-replay/
LOCATION:Omagh
CATEGORIES:Match Ticket,Streaming
ATTACH;FMTTYPE=image/jpeg:https://tyronegaa.ie/wp-content/uploads/2023/08/tyrone-club-champ.jpg
ORGANIZER;CN="Tyrone GAA":MAILTO:pro.tyrone@gaa.ie
END:VEVENT
BEGIN:VEVENT
DTSTART;TZID=Europe/London:20251012T180000
DTEND;TZID=Europe/London:20251012T191500
DTSTAMP:20260421T215558
CREATED:20251007T101604Z
LAST-MODIFIED:20251008T195341Z
UID:10000413-1760292000-1760296500@tyronegaa.ie
SUMMARY:Errigal Ciaran v Trí Leac C. Naoimh Mhic Artáin
DESCRIPTION:Entry for U16’s accompanied by an adult is free and do not require a ticket. \n#RefuseToLose
URL:https://tyronegaa.ie/event/errigal-v-trillick-2/
LOCATION:Omagh
CATEGORIES:Match Ticket,Streaming
ATTACH;FMTTYPE=image/jpeg:https://tyronegaa.ie/wp-content/uploads/2023/08/tyrone-club-champ.jpg
ORGANIZER;CN="Tyrone GAA":MAILTO:pro.tyrone@gaa.ie
END:VEVENT
BEGIN:VEVENT
DTSTART;TZID=Europe/London:20251012T143000
DTEND;TZID=Europe/London:20251012T154500
DTSTAMP:20260421T215558
CREATED:20251007T101324Z
LAST-MODIFIED:20251008T195515Z
UID:10000412-1760279400-1760283900@tyronegaa.ie
SUMMARY:Loughmacrory St. Teresa's v An Charraig Mhor Naomh Colmcille
DESCRIPTION:Entry for U16’s accompanied by an adult is free and do not require a ticket. \n#RefuseToLose
URL:https://tyronegaa.ie/event/loughmacrory-v-carrickmore/
LOCATION:Pomeroy
CATEGORIES:Match Ticket,Streaming
ATTACH;FMTTYPE=image/jpeg:https://tyronegaa.ie/wp-content/uploads/2023/08/tyrone-club-champ.jpg
ORGANIZER;CN="Tyrone GAA":MAILTO:pro.tyrone@gaa.ie
END:VEVENT
BEGIN:VEVENT
DTSTART;TZID=Europe/London:20251011T140000
DTEND;TZID=Europe/London:20251011T153000
DTSTAMP:20260421T215558
CREATED:20251008T200040Z
LAST-MODIFIED:20251008T200040Z
UID:10000414-1760191200-1760196600@tyronegaa.ie
SUMMARY:Drumragh Sarsfields v Cookstown Fr. Rock's
DESCRIPTION:Entry for U16’s accompanied by an adult is free and do not require a ticket. \n#RefuseToLose
URL:https://tyronegaa.ie/event/drumragh-v-cookstown-replay/
LOCATION:Killyclogher\, 36 Drumnakilly Road\, Omagh\, Tyrone\, BT79 0QA
CATEGORIES:Match Ticket,Streaming
ATTACH;FMTTYPE=image/jpeg:https://tyronegaa.ie/wp-content/uploads/2023/08/tyrone-club-champ.jpg
ORGANIZER;CN="Tyrone GAA":MAILTO:pro.tyrone@gaa.ie
END:VEVENT
BEGIN:VEVENT
DTSTART;TZID=Europe/London:20251007T193000
DTEND;TZID=Europe/London:20251007T204500
DTSTAMP:20260421T215558
CREATED:20250929T205911Z
LAST-MODIFIED:20251004T164430Z
UID:10000408-1759865400-1759869900@tyronegaa.ie
SUMMARY:Drumragh Sarsfields v Cookstown Fr. Rock's
DESCRIPTION:Entry for U16’s accompanied by an adult is free and do not require a ticket. \n#RefuseToLose
URL:https://tyronegaa.ie/event/drumragh-v-cookstown/
LOCATION:Stewartstown
CATEGORIES:Match Ticket,Streaming
ATTACH;FMTTYPE=image/jpeg:https://tyronegaa.ie/wp-content/uploads/2023/08/tyrone-club-champ.jpg
ORGANIZER;CN="Tyrone GAA":MAILTO:pro.tyrone@gaa.ie
END:VEVENT
BEGIN:VEVENT
DTSTART;TZID=Europe/London:20251006T191500
DTEND;TZID=Europe/London:20251006T203000
DTSTAMP:20260421T215558
CREATED:20250929T210059Z
LAST-MODIFIED:20251004T164152Z
UID:10000409-1759778100-1759782600@tyronegaa.ie
SUMMARY:Clogher Eire Óg v Strabane Sigersons
DESCRIPTION:Entry for U16’s accompanied by an adult is free and do not require a ticket. \n#RefuseToLose
URL:https://tyronegaa.ie/event/clogher-v-strabane/
LOCATION:Garvaghy\, Tyrone Centre of Excellence\, Tyrone GAA Centre of Excellence\, Garvaghy\, bt70 2eh
CATEGORIES:Match Ticket,Streaming
ATTACH;FMTTYPE=image/jpeg:https://tyronegaa.ie/wp-content/uploads/2023/08/tyrone-club-champ.jpg
ORGANIZER;CN="Tyrone GAA":MAILTO:pro.tyrone@gaa.ie
END:VEVENT
BEGIN:VEVENT
DTSTART;TZID=Europe/London:20251005T193000
DTEND;TZID=Europe/London:20251005T210000
DTSTAMP:20260421T215558
CREATED:20250929T205422Z
LAST-MODIFIED:20251002T181602Z
UID:10000407-1759692600-1759698000@tyronegaa.ie
SUMMARY:An Eaglais\, Naomh Pádraig v Moy Tír na nÓg
DESCRIPTION:Double Header with Intermediate Semi-Final Clonoe O`Rahilly’s v Achadh Lú Uí Néill \nEntry for U16’s accompanied by an adult is free and do not require a ticket. \n#RefuseToLose \n  \n 
URL:https://tyronegaa.ie/event/eglish-v-moy/
LOCATION:Dungannon\, 121 B4\, Pomeroy\, Dungannon\, BT70 2TG\, United Kingdom
CATEGORIES:Match Ticket,Streaming
ATTACH;FMTTYPE=image/jpeg:https://tyronegaa.ie/wp-content/uploads/2023/08/tyrone-club-champ.jpg
ORGANIZER;CN="Tyrone GAA":MAILTO:pro.tyrone@gaa.ie
END:VEVENT
BEGIN:VEVENT
DTSTART;TZID=Europe/London:20251005T180000
DTEND;TZID=Europe/London:20251005T191500
DTSTAMP:20260421T215558
CREATED:20250929T205112Z
LAST-MODIFIED:20251002T181656Z
UID:10000406-1759687200-1759691700@tyronegaa.ie
SUMMARY:Clonoe O`Rahilly's v Achadh Lú Uí Néill
DESCRIPTION:Double Header with Intermediate Semi-Final An Eaglais\, Naomh Pádraig v Moy Tír na nÓg \nEntry for U16’s accompanied by an adult is free and do not require a ticket. \n#RefuseToLose
URL:https://tyronegaa.ie/event/clonoe-v-aghaloo/
LOCATION:Dungannon\, 121 B4\, Pomeroy\, Dungannon\, BT70 2TG\, United Kingdom
CATEGORIES:Match Ticket,Streaming
ATTACH;FMTTYPE=image/jpeg:https://tyronegaa.ie/wp-content/uploads/2023/08/tyrone-club-champ.jpg
ORGANIZER;CN="Tyrone GAA":MAILTO:pro.tyrone@gaa.ie
END:VEVENT
BEGIN:VEVENT
DTSTART;TZID=Europe/London:20251005T160000
DTEND;TZID=Europe/London:20251005T173000
DTSTAMP:20260421T215558
CREATED:20250930T155337Z
LAST-MODIFIED:20251001T202552Z
UID:10000411-1759680000-1759685400@tyronegaa.ie
SUMMARY:Éire Óg An Charraig Mhór v Dún Geanainn Eoghain Ruadh
DESCRIPTION:Double Header with Junior Hurling Final: Naomh Colum Cille v Omagh St Enda’s \nEntry for U16’s accompanied by an adult is free and do not require a ticket. \n#RefuseToLose
URL:https://tyronegaa.ie/event/eire-og-v-eoghain-ruadh/
LOCATION:Omagh
CATEGORIES:Match Ticket,Streaming
ATTACH;FMTTYPE=image/jpeg:https://tyronegaa.ie/wp-content/uploads/2023/08/tyrone-club-champ.jpg
ORGANIZER;CN="Tyrone GAA":MAILTO:pro.tyrone@gaa.ie
END:VEVENT
BEGIN:VEVENT
DTSTART;TZID=Europe/London:20251005T140000
DTEND;TZID=Europe/London:20251005T153000
DTSTAMP:20260421T215558
CREATED:20250930T155050Z
LAST-MODIFIED:20251001T202509Z
UID:10000410-1759672800-1759678200@tyronegaa.ie
SUMMARY:Naomh Colum Cille v Omagh St Enda's
DESCRIPTION:Double Header with Senior Hurling Final: Éire Óg An Charraig Mhór v Dún Geanainn Eoghain Ruadh \nEntry for U16’s accompanied by an adult is free and do not require a ticket. \n#RefuseToLose
URL:https://tyronegaa.ie/event/n-colum-cille-v-omagh/
LOCATION:Omagh
CATEGORIES:Match Ticket,Streaming
ATTACH;FMTTYPE=image/jpeg:https://tyronegaa.ie/wp-content/uploads/2023/08/tyrone-club-champ.jpg
ORGANIZER;CN="Tyrone GAA":MAILTO:pro.tyrone@gaa.ie
END:VEVENT
BEGIN:VEVENT
DTSTART;TZID=Europe/London:20250928T164500
DTEND;TZID=Europe/London:20250928T181500
DTSTAMP:20260421T215558
CREATED:20250923T105253Z
LAST-MODIFIED:20250923T210729Z
UID:10000405-1759077900-1759083300@tyronegaa.ie
SUMMARY:Domhnach Mór Naoimh Pádraig v Loughmacrory St. Teresa's
DESCRIPTION:Entry for U16’s accompanied by an adult is free and do not require a ticket. \n#RefuseToLose
URL:https://tyronegaa.ie/event/donaghmore-v-laoughmacrory/
LOCATION:Dungannon\, 121 B4\, Pomeroy\, Dungannon\, BT70 2TG\, United Kingdom
CATEGORIES:Match Ticket,Streaming
ATTACH;FMTTYPE=image/jpeg:https://tyronegaa.ie/wp-content/uploads/2023/08/tyrone-club-champ.jpg
ORGANIZER;CN="Tyrone GAA":MAILTO:pro.tyrone@gaa.ie
END:VEVENT
BEGIN:VEVENT
DTSTART;TZID=Europe/London:20250928T140000
DTEND;TZID=Europe/London:20250928T153000
DTSTAMP:20260421T215558
CREATED:20250923T104941Z
LAST-MODIFIED:20250923T210625Z
UID:10000404-1759068000-1759073400@tyronegaa.ie
SUMMARY:Edendork St Malachy's v An Charraig Mhor Naomh Colmcille
DESCRIPTION:Entry for U16’s accompanied by an adult is free and do not require a ticket. \n#RefuseToLose
URL:https://tyronegaa.ie/event/edendork-v-carrickmore/
LOCATION:Pomeroy
CATEGORIES:Match Ticket,Streaming
ATTACH;FMTTYPE=image/jpeg:https://tyronegaa.ie/wp-content/uploads/2023/08/tyrone-club-champ.jpg
ORGANIZER;CN="Tyrone GAA":MAILTO:pro.tyrone@gaa.ie
END:VEVENT
BEGIN:VEVENT
DTSTART;TZID=Europe/London:20250927T170000
DTEND;TZID=Europe/London:20250927T183000
DTSTAMP:20260421T215558
CREATED:20250923T104704Z
LAST-MODIFIED:20250923T210528Z
UID:10000403-1758992400-1758997800@tyronegaa.ie
SUMMARY:Errigal Ciaran v Omagh St Enda's
DESCRIPTION:Entry for U16’s accompanied by an adult is free and do not require a ticket. \n#RefuseToLose
URL:https://tyronegaa.ie/event/errigal-v-omagh/
LOCATION:Carrickmore
CATEGORIES:Match Ticket,Streaming
ATTACH;FMTTYPE=image/jpeg:https://tyronegaa.ie/wp-content/uploads/2023/08/tyrone-club-champ.jpg
ORGANIZER;CN="Tyrone GAA":MAILTO:pro.tyrone@gaa.ie
END:VEVENT
BEGIN:VEVENT
DTSTART;TZID=Europe/London:20250926T193000
DTEND;TZID=Europe/London:20250926T204500
DTSTAMP:20260421T215558
CREATED:20250923T104441Z
LAST-MODIFIED:20250923T210429Z
UID:10000402-1758915000-1758919500@tyronegaa.ie
SUMMARY:Trí Leac C. Naoimh Mhic Artáin v Pomeroy Plunketts
DESCRIPTION:Entry for U16’s accompanied by an adult is free and do not require a ticket. \n#RefuseToLose
URL:https://tyronegaa.ie/event/trillick-v-pomeroy/
LOCATION:Omagh
CATEGORIES:Match Ticket,Streaming
ATTACH;FMTTYPE=image/jpeg:https://tyronegaa.ie/wp-content/uploads/2023/08/tyrone-club-champ.jpg
ORGANIZER;CN="Tyrone GAA":MAILTO:pro.tyrone@gaa.ie
END:VEVENT
BEGIN:VEVENT
DTSTART;TZID=Europe/London:20250921T193000
DTEND;TZID=Europe/London:20250921T204500
DTSTAMP:20260421T215558
CREATED:20250916T083551Z
LAST-MODIFIED:20250917T151830Z
UID:10000401-1758483000-1758487500@tyronegaa.ie
SUMMARY:Kildress Wolfe Tones v Clonoe O`Rahilly's
DESCRIPTION:Double Header with Intermediate Quarter Final: Moy Tír na nÓg v Rock St Patrick’s \nEntry for U16’s accompanied by an adult is free and do not require a ticket. \n#RefuseToLose
URL:https://tyronegaa.ie/event/kildress-wolfe-tones-v-clonoe-orahillys/
LOCATION:Dungannon\, 121 B4\, Pomeroy\, Dungannon\, BT70 2TG\, United Kingdom
CATEGORIES:Match Ticket,Streaming
ATTACH;FMTTYPE=image/jpeg:https://tyronegaa.ie/wp-content/uploads/2023/08/tyrone-club-champ.jpg
ORGANIZER;CN="Tyrone GAA":MAILTO:pro.tyrone@gaa.ie
END:VEVENT
BEGIN:VEVENT
DTSTART;TZID=Europe/London:20250921T180000
DTEND;TZID=Europe/London:20250921T191500
DTSTAMP:20260421T215558
CREATED:20250916T083420Z
LAST-MODIFIED:20250917T151746Z
UID:10000400-1758477600-1758482100@tyronegaa.ie
SUMMARY:Moy Tír na nÓg v Rock St Patrick's
DESCRIPTION:Double Header with Intermediate Quarter Final: Kildress Wolfe Tones v Clonoe O`Rahilly’s \nEntry for U16’s accompanied by an adult is free and do not require a ticket. \n#RefuseToLose
URL:https://tyronegaa.ie/event/moy-v-rock/
LOCATION:Dungannon\, 121 B4\, Pomeroy\, Dungannon\, BT70 2TG\, United Kingdom
CATEGORIES:Match Ticket,Streaming
ATTACH;FMTTYPE=image/jpeg:https://tyronegaa.ie/wp-content/uploads/2023/08/tyrone-club-champ.jpg
ORGANIZER;CN="Tyrone GAA":MAILTO:pro.tyrone@gaa.ie
END:VEVENT
BEGIN:VEVENT
DTSTART;TZID=Europe/London:20250921T151500
DTEND;TZID=Europe/London:20250921T164500
DTSTAMP:20260421T215558
CREATED:20250916T082736Z
LAST-MODIFIED:20250917T151446Z
UID:10000399-1758467700-1758473100@tyronegaa.ie
SUMMARY:Beragh Red Knights v Achadh Lú Uí Néill
DESCRIPTION:Double Header with Junior Quarter Final: Drumragh Sarsfields v Errigal Ciaran \nEntry for U16’s accompanied by an adult is free and do not require a ticket. \n#RefuseToLose
URL:https://tyronegaa.ie/event/eragh-v-aghaloo/
LOCATION:Donaghmore
CATEGORIES:Match Ticket,Streaming
ATTACH;FMTTYPE=image/jpeg:https://tyronegaa.ie/wp-content/uploads/2023/08/tyrone-club-champ.jpg
ORGANIZER;CN="Tyrone GAA":MAILTO:pro.tyrone@gaa.ie
END:VEVENT
BEGIN:VEVENT
DTSTART;TZID=Europe/London:20250921T133000
DTEND;TZID=Europe/London:20250921T144500
DTSTAMP:20260421T215558
CREATED:20250916T082348Z
LAST-MODIFIED:20250917T151634Z
UID:10000398-1758461400-1758465900@tyronegaa.ie
SUMMARY:Drumragh Sarsfields v Errigal Ciaran
DESCRIPTION:Double Header with Intermediate Quarter Final: Beragh Red Knights v Achadh Lú Uí Néill \nEntry for U16’s accompanied by an adult is free and do not require a ticket. \n#RefuseToLose
URL:https://tyronegaa.ie/event/drumraghverrigal/
LOCATION:Donaghmore
CATEGORIES:Match Ticket,Streaming
ATTACH;FMTTYPE=image/jpeg:https://tyronegaa.ie/wp-content/uploads/2023/08/tyrone-club-champ.jpg
ORGANIZER;CN="Tyrone GAA":MAILTO:pro.tyrone@gaa.ie
END:VEVENT
BEGIN:VEVENT
DTSTART;TZID=Europe/London:20250920T170000
DTEND;TZID=Europe/London:20250920T181500
DTSTAMP:20260421T215558
CREATED:20250916T081849Z
LAST-MODIFIED:20250917T152152Z
UID:10000397-1758387600-1758392100@tyronegaa.ie
SUMMARY:Clogher Eire Óg v Clann na nGael
DESCRIPTION:Double Header with Junior Quarter Final: Breac an Bhile Eoghan Rua v Strabane Sigersons \nEntry for U16’s accompanied by an adult is free and do not require a ticket. \n#RefuseToLose
URL:https://tyronegaa.ie/event/cloghervclannnagael/
LOCATION:Killyclogher\, 36 Drumnakilly Road\, Omagh\, Tyrone\, BT79 0QA
CATEGORIES:Match Ticket,Streaming
ATTACH;FMTTYPE=image/jpeg:https://tyronegaa.ie/wp-content/uploads/2023/08/tyrone-club-champ.jpg
ORGANIZER;CN="Tyrone GAA":MAILTO:pro.tyrone@gaa.ie
END:VEVENT
BEGIN:VEVENT
DTSTART;TZID=Europe/London:20250920T153000
DTEND;TZID=Europe/London:20250920T161500
DTSTAMP:20260421T215558
CREATED:20250916T081640Z
LAST-MODIFIED:20250917T151215Z
UID:10000396-1758382200-1758384900@tyronegaa.ie
SUMMARY:Breac an Bhile Eoghan Rua v Strabane Sigersons
DESCRIPTION:Double Header with Intermediate Quarter Final: Clogher Eire Óg v Clann na nGael \nEntry for U16’s accompanied by an adult is free and do not require a ticket. \n#RefuseToLose
URL:https://tyronegaa.ie/event/brackaville-v-strabane/
LOCATION:Killyclogher\, 36 Drumnakilly Road\, Omagh\, Tyrone\, BT79 0QA
CATEGORIES:Match Ticket,Streaming
ATTACH;FMTTYPE=image/jpeg:https://tyronegaa.ie/wp-content/uploads/2023/08/tyrone-club-champ.jpg
ORGANIZER;CN="Tyrone GAA":MAILTO:pro.tyrone@gaa.ie
END:VEVENT
BEGIN:VEVENT
DTSTART;TZID=Europe/London:20250919T203000
DTEND;TZID=Europe/London:20250919T214500
DTSTAMP:20260421T215558
CREATED:20250916T081117Z
LAST-MODIFIED:20250917T151055Z
UID:10000395-1758313800-1758318300@tyronegaa.ie
SUMMARY:An Eaglais\, Naomh Pádraig v Owen Roe O`Neill's\, Leckpatrick
DESCRIPTION:Double Header with Junior Quarter Final: Cookstown Fr. Rock’s v Augher St Macartan’s \nEntry for U16’s accompanied by an adult is free and do not require a ticket. \n#RefuseToLose
URL:https://tyronegaa.ie/event/eglish-v-owenroes/
LOCATION:Omagh
CATEGORIES:Match Ticket,Streaming
ATTACH;FMTTYPE=image/jpeg:https://tyronegaa.ie/wp-content/uploads/2023/08/tyrone-club-champ.jpg
ORGANIZER;CN="Tyrone GAA":MAILTO:pro.tyrone@gaa.ie
END:VEVENT
BEGIN:VEVENT
DTSTART;TZID=Europe/London:20250919T190000
DTEND;TZID=Europe/London:20250919T201500
DTSTAMP:20260421T215558
CREATED:20250916T080741Z
LAST-MODIFIED:20250917T151014Z
UID:10000394-1758308400-1758312900@tyronegaa.ie
SUMMARY:Cookstown Fr. Rock's v Augher St Macartan's
DESCRIPTION:Double Header with Intermediate Quarter Final: An Eaglais\, Naomh Pádraig v Owen Roe O`Neill’s\, Leckpatrick \nEntry for U16’s accompanied by an adult is free and do not require a ticket. \n#RefuseToLose
URL:https://tyronegaa.ie/event/cookstown-fr-rocks-v-augher-st-macartans/
LOCATION:Omagh
CATEGORIES:Match Ticket,Streaming
ATTACH;FMTTYPE=image/jpeg:https://tyronegaa.ie/wp-content/uploads/2023/08/tyrone-club-champ.jpg
ORGANIZER;CN="Tyrone GAA":MAILTO:pro.tyrone@gaa.ie
END:VEVENT
BEGIN:VEVENT
DTSTART;TZID=Europe/London:20250914T191500
DTEND;TZID=Europe/London:20250914T204500
DTSTAMP:20260421T215558
CREATED:20250909T090936Z
LAST-MODIFIED:20250909T123804Z
UID:10000393-1757877300-1757882700@tyronegaa.ie
SUMMARY:Galbally Pearses v Domhnach Mór Naoimh Pádraig
DESCRIPTION:Double Header with Senior First Round: An Charraig Mhor Naomh Colmcille v Moortown St Malachy’s \nEntry for U16’s accompanied by an adult is free and do not require a ticket. \n#RefuseToLose
URL:https://tyronegaa.ie/event/galbally-v-donaghmore/
LOCATION:Dungannon\, 121 B4\, Pomeroy\, Dungannon\, BT70 2TG\, United Kingdom
CATEGORIES:Match Ticket,Streaming
ATTACH;FMTTYPE=image/jpeg:https://tyronegaa.ie/wp-content/uploads/2023/08/tyrone-club-champ.jpg
ORGANIZER;CN="Tyrone GAA":MAILTO:pro.tyrone@gaa.ie
END:VEVENT
BEGIN:VEVENT
DTSTART;TZID=Europe/London:20250914T173000
DTEND;TZID=Europe/London:20250914T190000
DTSTAMP:20260421T215558
CREATED:20250909T090740Z
LAST-MODIFIED:20250909T123659Z
UID:10000392-1757871000-1757876400@tyronegaa.ie
SUMMARY:An Charraig Mhor Naomh Colmcille v Moortown St Malachy's
DESCRIPTION:Double Header with Senior First Round: Galbally Pearses v Domhnach Mór Naoimh Pádraig \nEntry for U16’s accompanied by an adult is free and do not require a ticket. \n#RefuseToLose
URL:https://tyronegaa.ie/event/carrickmore-v-moortown/
LOCATION:Dungannon\, 121 B4\, Pomeroy\, Dungannon\, BT70 2TG\, United Kingdom
CATEGORIES:Match Ticket,Streaming
ATTACH;FMTTYPE=image/jpeg:https://tyronegaa.ie/wp-content/uploads/2023/08/tyrone-club-champ.jpg
ORGANIZER;CN="Tyrone GAA":MAILTO:pro.tyrone@gaa.ie
END:VEVENT
BEGIN:VEVENT
DTSTART;TZID=Europe/London:20250914T151500
DTEND;TZID=Europe/London:20250914T164500
DTSTAMP:20260421T215558
CREATED:20250909T090415Z
LAST-MODIFIED:20250909T123507Z
UID:10000391-1757862900-1757868300@tyronegaa.ie
SUMMARY:An Droim Mór v Edendork St Malachy's
DESCRIPTION:Double Header with Senior First Round: Omagh St Enda’s v Derrylaughan Kevin Barry’s \nEntry for U16’s accompanied by an adult is free and do not require a ticket. \n#RefuseToLose
URL:https://tyronegaa.ie/event/dromore-v-edendork/
LOCATION:Pomeroy
CATEGORIES:Match Ticket,Streaming
ATTACH;FMTTYPE=image/jpeg:https://tyronegaa.ie/wp-content/uploads/2023/08/tyrone-club-champ.jpg
ORGANIZER;CN="Tyrone GAA":MAILTO:pro.tyrone@gaa.ie
END:VEVENT
END:VCALENDAR